BEGIN:VCALENDAR
METHOD:PUBLISH
PRODID:-//doubleknot.com//CalenderEvent MIMEDIR//EN
VERSION:2.0
BEGIN:VEVENT
UID:3143918-20260919T160000Z-20260919T200000Z@doubleknot.com
CREATED:20260421T184826Z
LAST-MODIFIED:20260421T184850Z
DTSTAMP:20260424T014921Z
DTSTART:20260919T160000Z
DTEND:20260919T200000Z
LOCATION:US
CATEGORIES:
DESCRIPTION: \n  \n  \n Special Notifications \n  \n  \n  \n 	This guided tour begins at 9:00am in the morning and runs at least four hours, after which visitors may remain on the ship for the rest of the day. \n 	Everybody must bring their own flashlight; HORNET does not supply individual lights. \n 	Cameras are welcome, but must have a neck strap. \n 	Tour participants must wear comfortable shoes. Heels and open-toed shoes are not allowed. \n 	Tour participants must be in good physical health as there will be lots of walking and climbing. \n 	Due to safety reasons, children 12 and under are not allowed on VIP Restoration Behind the Scenes Tour. \n 	Tour space is limited to 20 people. \n 	 Tours may be rescheduled, no refunds \n  \n  \n VIP Behind the Scenes  Restoration Tour \n  \n  \n Beat the crowds and receive a special tour of areas on board HORNET that have not yet been opened to the public or have limited access during the day: \n  \n  \n Spaces that may be Included Are: \n  \n  \n  \n 	Combat Information Center (CIC) \n 	Message Center (Radio Central) \n 	Forward Diesel Machine Room \n 	Ship&rsquo;s Main Laundry \n 	Special Weapons Storage &amp; Work Space \n 	Brig \n 	Catapult Machinery Room \n 	Cobbler Shop \n 	Dental Spaces \n  \n  \n Following the guided tour, explore the rest of the museum on your own. (The guided portion of the tour lasts at least three hours and may vary from the above itinerary.) \n  \n  \n Tour Schedule \n  \n  \n VIP Behind the Scenes Restoration Tours are usually held the third Saturday of the month. \n 
SUMMARY:Saturday VIP Restoration Tour
PRIORITY:5
BEGIN:VALARM
TRIGGER:PT15M
ACTION:DISPLAY
DESCRIPTION:Reminder
PRIORITY:5
END:VALARM
END:VEVENT
END:VCALENDAR
