BEGIN:VCALENDAR
METHOD:PUBLISH
PRODID:-//doubleknot.com//CalenderEvent MIMEDIR//EN
VERSION:2.0
BEGIN:VEVENT
UID:3143912-20261101T020000Z-20261101T050000Z@doubleknot.com
CREATED:20260421T184334Z
LAST-MODIFIED:20260421T184411Z
DTSTAMP:20260424T002144Z
DTSTART:20261101T020000Z
DTEND:20261101T050000Z
LOCATION:US
CATEGORIES:
DESCRIPTION:History Mystery Reservations  \n  \n  \n   \n  \n  \n  \n 	History Mystery tickets may be purchased on our website (please see link for available times and dates) \n 	History Mystery Tours will be capped at 35 for capacity with 4 different tour groups \n 	Some spaces may not be available for touring for safety modifications \n 	All ship safety protocol must be followed, including wearing of masks if mandated \n  \n  \n History Mystery Tour \n  \n  \n Your behind the scenes tour includes areas aboard the ship that have not yet been opened to the public, virtually untouched since the ship&rsquo;s decommissioning over forty years ago, as well as other eerie spaces that have been reported to host unseen visitors. Tour participants must be at least 13 years old.  \n  \n  \n For those more interested in history than spirits, be sure to arrive on time and request to join our &ldquo;history&rdquo; tour group that evening! \n  \n  \n Please remember to bring a flashlight! \n  \n  \n Times \n  \n 7 PM to 10 PM.  \n  \n  \n Rates \n  \n $40.00 per person \n  \n Advance Tickets Required \n 
SUMMARY:History Mystery Halloween Tour 10/31/26
PRIORITY:5
BEGIN:VALARM
TRIGGER:PT15M
ACTION:DISPLAY
DESCRIPTION:Reminder
PRIORITY:5
END:VALARM
END:VEVENT
END:VCALENDAR
